Workbook

Sheet Data
A1: Dutton District Mowing, Line Trimming, and Litter Pickup for Jackson and DeKalb County bid #40
A2: ROUTE | B2: ROUTE TYPE | C2: COUNTY | D2: BEGIN MP | E2: END MP | F2: PROJECT LENGTH | G2: APP. ACRES CUT 1 | H2: APP. ACRES CUT 2 | I2: APP. ACRES CUT 3 | J2: TOTAL ACRES PER SEASON | K2: APP. LINE TRIMMING/ CYCLE (LF) | L2: APP. TOTAL LINE TRIMMING (LF) | M2: REMARKS
A3: SR-2 | B3: NHS | C3: Jackson | D3: 120.245 | E3: 131.9 | F3: 11.655 | G3: 171.77 | H3: 171.77 | I3: 171.77 | J3: =SUM(G3:I3) -> 515.31 | K3: =34442+10924+9621 -> 54987 | L3: =K3*3 -> 164961
A4: SR-2 | B4: NHS | C4: Jackson | D4: 141.7 | E4: 148.37 | F4: 6.67 | G4: 119.66 | H4: 119.66 | I4: 119.66 | J4: =SUM(G4:I4) -> 358.98
A5: SR-2 | B5: NHS | C5: Jackson | D5: 160.87 | E5: 167.23 | F5: 6.36 | G5: 152.11 | H5: 152.11 | I5: 152.11 | J5: =SUM(G5:I5) -> 456.33
A6: SR-35 | B6: NHS | C6: Dekalb | D6: 14.18 | E6: 21.5 | F6: 7.32 | G6: 51.26 | H6: 51.26 | I6: 51.26 | J6: =SUM(G6:I6) -> 153.78 | K6: =10315+19281+2018+15108 -> 46722 | L6: =K6*3 -> 140166
A7: SR-35 | B7: NHS | C7: Dekalb | D7: 23.2 | E7: 31.6 | F7: 8.4 | G7: 72.97 | H7: 72.97 | I7: 72.97 | J7: =SUM(G7:I7) -> 218.91
A8: SR-35 | B8: NHS | C8: Dekalb | D8: 32.27 | E8: 36.77 | F8: =E8-D8 -> 4.5 | G8: 91.5 | H8: 91.5 | I8: 91.5 | J8: =SUM(G8:I8) -> 274.5
A9: SR-35 | B9: NHS | C9: Jackson | D9: 36.77 | E9: 46.25 | F9: =E9-D9 -> 9.48 | G9: 198.17 | H9: 198.17 | I9: 198.17 | J9: =SUM(G9:I9) -> 594.51 | K9: 15108 | L9: =K9*3 -> 45324
A10: SR-35 | B10: OSH | C10: Jackson | D10: 51.8 | E10: 68.291 | F10: 16.491 | G10: 99.8 | H10: 99.8 | I10: 99.8 | J10: =SUM(G10:I10) -> 299.4 | K10: 282 | L10: =K10*3 -> 846
A11: SR-40 | B11: NHS | C11: Jackson | D11: 0 | E11: 13.43 | F11: 13.43 | G11: 41.3 | H11: 41.3 | I11: 41.3 | J11: =SUM(G11:I11) -> 123.9 | K11: 4225 | L11: 12675
A12: SR-40 | B12: NHS | C12: DeKalb | D12: 13.43 | E12: 21.23 | F12: 7.8 | G12: 25.13 | H12: 25.13 | I12: 25.13 | J12: =SUM(G12:I12) -> 75.39 | K12: 1130 | L12: 3390
A13: SR-68 | B13: NHS | C13: DeKalb | D13: 0 | E13: 22.96 | F13: 22.96 | G13: 81.7 | H13: 81.7 | I13: 81.7 | J13: =SUM(G13:I13) -> 245.1 | K13: 3700 | L13: 11100
A14: SR-117 | B14: NHS | C14: DeKalb | D14: 0 | E14: 21.23 | F14: 21.23 | G14: 25.63 | H14: 25.63 | I14: 25.63 | J14: =SUM(G14:I14) -> 76.89 | K14: 14384 | L14: 43152 | M14: Mentone Mows M.P. 4.38-6.09
A15: SR-7 | B15: NHS | C15: DeKalb | D15: 208.19 | E15: 250.67 | F15: 42.48 | G15: 105.54 | H15: 105.54 | I15: 105.54 | J15: =SUM(G15:I15) -> 316.62 | K15: 3650 | L15: 10950 | M15: Fort Payne Mows M.P. 224.28-232.06
A16: SR-75 | B16: NHS | C16: DeKalb | D16: 64.81 | E16: 113.22 | F16: 48.41 | G16: 207.02 | H16: 207.02 | I16: 207.02 | J16: =SUM(G16:I16) -> 621.06 | K16: 1915 | L16: 5745 | M16: Rainsville Mows M.P. 83.16-88.68
A23: Total Non-Interstate | G23: =SUM(G3:G22) -> 1443.56 | H23: =SUM(H3:H22) -> 1443.56 | I23: =SUM(I3:I22) -> 1443.56 | J23: =SUM(J3:J22) -> 4330.68 | K23: =SUM(K3:K21) -> 146103 | L23: =SUM(L3:L22) -> 438309 | M23: **Line Trimming Quantites are Route Totals
A26: ROUTE | C26: COUNTY | D26: BEGIN MP | E26: END MP | F26: PROJECT LENGTH | G26: APP. ACRES CUT 1 | H26: APP. ACRES CUT 2 | I26: APP. ACRES CUT 3 | J26: TOTAL ACRES PER SEASON | K26: APP. LINE TRIMMING/ CYCLE (LF) | L26: APP. TOTAL LINE TRIMMING (LF) | M26: REMARKS
A27: I-59 | B27: INT | C27: DEKALB | D27: 198.69 | E27: 241.18 | F27: 42.49 | G27: 814.21 | H27: 814.21 | I27: 814.21 | J27: =SUM(G27:I27) -> 2442.63 | K27: 283970 | L27: =K27*3 -> 851910 | M27: FROM ETOWAH CO. LINE TO AL/GA STATE LINE
A29: Total Interstate | G29: =SUM(G27:G28) -> 814.21 | H29: =SUM(H27:H28) -> 814.21 | I29: =SUM(I27:I28) -> 814.21 | J29: =SUM(J27:J28) -> 2442.63 | K29: =SUM(K27:K28) -> 283970 | L29: =SUM(L27:L28) -> 851910

Sheet Summary
A1: Dutton District Mowing, Line Trimming, and Litter Pickup for Jackson and DeKalb County bid #40
A2: LINE # | B2: COMMODITY # | C2: DESCRIPTION | D2: ROUTE TYPE | E2: QUANTITY PER CYCLE | F2: COUNTY | G2: TOTAL QUANTITY | H2: UNIT | I2: UNIT PRICE | J2: TOTAL PER CYCLE | K2: TOTAL PER 3 CYCLES
A3: 1 | B3: 98856 | C3: Maintenance Roadside Mowing | D3: NHS | E3: 683.01 | F3: Jackson | G3: =E3*3 -> 2049.03 | H3: Acre
A4: 2 | B4: 98856 | C4: Line Trimming | D4: NHS | E4: 74320 | F4: Jackson | G4: =E4*3 -> 222960 | H4: LF
A5: 3 | B5: 98856 | C5: Litter Pickup | D5: NHS | E5: 47.6 | F5: Jackson | G5: =E5*3 -> 142.8 | H5: Mile
A6: 4 | B6: 98856 | C6: Maintenance Roadside Mowing | D6: OSH | E6: =Data!I10 -> 99.8 | F6: Jackson | G6: =E6*3 -> 299.4 | H6: Acre
A7: 5 | B7: 98856 | C7: Line Trimming | D7: OSH | E7: =Data!K10 -> 282 | F7: Jackson | G7: =E7*3 -> 846 | H7: LF
A8: 6 | B8: 98856 | C8: Litter Pickup | D8: OSH | E8: =Data!F10 -> 16.491 | F8: Jackson | G8: =E8*3 -> 49.473 | H8: Mile
A9: 7 | B9: 98856 | C9: Maintenance Roadside Mowing | D9: NHS | E9: 660.75 | F9: Dekalb | G9: =E9*3 -> 1982.25 | H9: Acre
A10: 8 | B10: 98856 | C10: Line Trimming | D10: NHS | E10: 71501 | F10: Dekalb | G10: =E10*3 -> 214503 | H10: LF
A11: 9 | B11: 98856 | C11: Litter Pickup | D11: NHS | E11: 163.1 | F11: Dekalb | G11: =E11*3 -> 489.3 | H11: Mile
A12: 10 | B12: 98856 | C12: Maintenance Roadside Mowing | D12: INT | E12: =Data!I27 -> 814.21 | F12: Dekalb | G12: =E12*3 -> 2442.63 | H12: Acre
A13: 11 | B13: 98856 | C13: Line Trimming | D13: INT | E13: =Data!K27 -> 283970 | F13: Dekalb | G13: =E13*3 -> 851910 | H13: LF
A14: 12 | B14: 98856 | C14: Litter Pickup | D14: INT | E14: =Data!F27 -> 42.49 | F14: Dekalb | G14: =E14*3 -> 127.47 | H14: Mile

Sheet Cycles
A1: Dutton District Mowing, Line Trimming, and Litter Pickup for Jackson and DeKalb County bid #40
C2: NON-INTERSTATE REQUIRED MOWING AND LITTER COLLECTION
A3: CYCLES | B3: APPROXIMATE START DATES | C3: TOTAL APPROXIMATE ACRES | D3: WORKING DAYS PER CYCLE | E3: REMARKS
A9: 1 | B9: 46300 | C9: 1443.6 | D9: 20 | E9: Reference Spec 3.6
A10: 2 | B10: 46552 | C10: 1443.6 | D10: 20
A11: 3 | B11: 46615 | C11: 1443.6 | D11: 20 | E11: Reference Spec 3.6
A24: TOTALS | C24: =ROUNDUP(SUM(C8:C23),0) -> 4331 | D24: =SUM(D8:D23) -> 60
A27: INTERSTATE REQUIRED MOWING AND LITTER COLLECTION
A28: CYCLES | B28: APPROXIMATE START DATES | C28: TOTAL APPROXIMATE ACRES | D28: WORKING DAYS PER CYCLE | E28: REMARKS
A34: 1 | B34: 46300 | C34: 814.21 | D34: 14 | E34: Reference Spec 3.6
A35: 2 | B35: 46552 | C35: 814.21 | D35: 14
A36: 3 | B36: 46615 | C36: 814.21 | D36: 14 | E36: Reference Spec 3.6
A39: TOTALS | C39: =ROUNDUP(SUM(C33:C38),0) -> 2443 | D39: =SUM(D33:D38) -> 42
